BEGIN:VCALENDAR
VERSION:2.0
PRODID:-//Centre socioculturel Gutenberg - ECPv6.15.17.1//NONSGML v1.0//EN
CALSCALE:GREGORIAN
METHOD:PUBLISH
X-ORIGINAL-URL:https://www.centregutenberg.com
X-WR-CALDESC:Évènements pour Centre socioculturel Gutenberg
REFRESH-INTERVAL;VALUE=DURATION:PT1H
X-Robots-Tag:noindex
X-PUBLISHED-TTL:PT1H
BEGIN:VTIMEZONE
TZID:Europe/Paris
BEGIN:DAYLIGHT
TZOFFSETFROM:+0100
TZOFFSETTO:+0200
TZNAME:CEST
DTSTART:20240331T010000
END:DAYLIGHT
BEGIN:STANDARD
TZOFFSETFROM:+0200
TZOFFSETTO:+0100
TZNAME:CET
DTSTART:20241027T010000
END:STANDARD
BEGIN:DAYLIGHT
TZOFFSETFROM:+0100
TZOFFSETTO:+0200
TZNAME:CEST
DTSTART:20250330T010000
END:DAYLIGHT
BEGIN:STANDARD
TZOFFSETFROM:+0200
TZOFFSETTO:+0100
TZNAME:CET
DTSTART:20251026T010000
END:STANDARD
BEGIN:DAYLIGHT
TZOFFSETFROM:+0100
TZOFFSETTO:+0200
TZNAME:CEST
DTSTART:20260329T010000
END:DAYLIGHT
BEGIN:STANDARD
TZOFFSETFROM:+0200
TZOFFSETTO:+0100
TZNAME:CET
DTSTART:20261025T010000
END:STANDARD
END:VTIMEZONE
BEGIN:VEVENT
DTSTART;TZID=Europe/Paris:20251124T083000
DTEND;TZID=Europe/Paris:20251124T113000
DTSTAMP:20260422T033933
CREATED:20251024T140106Z
LAST-MODIFIED:20251024T140106Z
UID:7493-1763973000-1763983800@www.centregutenberg.com
SUMMARY:Lieu Accueil Enfants Parents
DESCRIPTION:Lieu d’Accueil Enfants Parents (LAEP) – gratuit \nEspace de jeux pour les enfants de 0 à 6 ans accompagnés d’un adulte (père\, mère\, grand-parent\, etc.). Ouvert aux futurs parents. Accueil libre. \nLundi 8h30 – 11h30 & 15h30 – 18h30\nEspace Famille\, Ludothèque\n29 rue Félix Trombe\nGrabels La Valsière \nMardi & Mercredi 9h – 12h\nMaison commune\, 1er étage\, Salle Cléopâtre\n1 place Jean Jaurès\nGrabels\, Centre
URL:https://www.centregutenberg.com/event/lieu-accueil-enfants-parents-155/
CATEGORIES:LAEP
ATTACH;FMTTYPE=image/jpeg:https://www.centregutenberg.com/wp-content/uploads/2024/03/IMG_20191217_102529-scaled-1.jpg
END:VEVENT
BEGIN:VEVENT
DTSTART;TZID=Europe/Paris:20251124T140000
DTEND;TZID=Europe/Paris:20251124T160000
DTSTAMP:20260422T033933
CREATED:20251024T144006Z
LAST-MODIFIED:20251024T144006Z
UID:7521-1763992800-1764000000@www.centregutenberg.com
SUMMARY:Atelier histoire de l'art
DESCRIPTION:Laëtitia Cornée vous propose un atelier histoire de l’art. \nLe lundi 24 novembre de 14h à 16h au Centre Gutenberg\n12€ la séance\, adhésion obligatoire
URL:https://www.centregutenberg.com/event/atelier-histoire-de-lart-7/
LOCATION:Centre Gutenberg\, 2 place Jean Jaurès\, GRABELS\, 34790
CATEGORIES:ATELIER
ATTACH;FMTTYPE=image/jpeg:https://www.centregutenberg.com/wp-content/uploads/2024/03/man-2590655_1280.jpg
END:VEVENT
BEGIN:VEVENT
DTSTART;TZID=Europe/Paris:20251124T153000
DTEND;TZID=Europe/Paris:20251124T183000
DTSTAMP:20260422T033933
CREATED:20251024T140221Z
LAST-MODIFIED:20251024T140221Z
UID:7495-1763998200-1764009000@www.centregutenberg.com
SUMMARY:Lieu Accueil Enfants Parents
DESCRIPTION:Lieu d’Accueil Enfants Parents (LAEP) – gratuit \nEspace de jeux pour les enfants de 0 à 6 ans accompagnés d’un adulte (père\, mère\, grand-parent\, etc.). Ouvert aux futurs parents. Accueil libre. \nLundi 8h30 – 11h30 & 15h30 – 18h30\nEspace Famille\, Ludothèque\n29 rue Félix Trombe\nGrabels La Valsière \nMardi & Mercredi 9h – 12h\nMaison commune\, 1er étage\, Salle Cléopâtre\n1 place Jean Jaurès\nGrabels\, Centre
URL:https://www.centregutenberg.com/event/lieu-accueil-enfants-parents-156/
LOCATION:Ludothèque\, 29\, rue Félix Trombe\, Grabels\, 34790\, France
CATEGORIES:LAEP
ATTACH;FMTTYPE=image/jpeg:https://www.centregutenberg.com/wp-content/uploads/2024/03/IMG_20191217_102529-scaled-1.jpg
END:VEVENT
END:VCALENDAR