BEGIN:VCALENDAR
VERSION:2.0
PRODID:-//Centre socioculturel Gutenberg - ECPv6.15.17.1//NONSGML v1.0//EN
CALSCALE:GREGORIAN
METHOD:PUBLISH
X-ORIGINAL-URL:https://www.centregutenberg.com
X-WR-CALDESC:Évènements pour Centre socioculturel Gutenberg
REFRESH-INTERVAL;VALUE=DURATION:PT1H
X-Robots-Tag:noindex
X-PUBLISHED-TTL:PT1H
BEGIN:VTIMEZONE
TZID:Europe/Paris
BEGIN:DAYLIGHT
TZOFFSETFROM:+0100
TZOFFSETTO:+0200
TZNAME:CEST
DTSTART:20240331T010000
END:DAYLIGHT
BEGIN:STANDARD
TZOFFSETFROM:+0200
TZOFFSETTO:+0100
TZNAME:CET
DTSTART:20241027T010000
END:STANDARD
BEGIN:DAYLIGHT
TZOFFSETFROM:+0100
TZOFFSETTO:+0200
TZNAME:CEST
DTSTART:20250330T010000
END:DAYLIGHT
BEGIN:STANDARD
TZOFFSETFROM:+0200
TZOFFSETTO:+0100
TZNAME:CET
DTSTART:20251026T010000
END:STANDARD
BEGIN:DAYLIGHT
TZOFFSETFROM:+0100
TZOFFSETTO:+0200
TZNAME:CEST
DTSTART:20260329T010000
END:DAYLIGHT
BEGIN:STANDARD
TZOFFSETFROM:+0200
TZOFFSETTO:+0100
TZNAME:CET
DTSTART:20261025T010000
END:STANDARD
END:VTIMEZONE
BEGIN:VEVENT
DTSTART;TZID=Europe/Paris:20251217T090000
DTEND;TZID=Europe/Paris:20251217T120000
DTSTAMP:20260421T170636
CREATED:20251124T093314Z
LAST-MODIFIED:20251124T093314Z
UID:7579-1765962000-1765972800@www.centregutenberg.com
SUMMARY:Lieu Accueil Enfants Parents
DESCRIPTION:Lieu d’Accueil Enfants Parents (LAEP) – gratuit \nEspace de jeux pour les enfants de 0 à 6 ans accompagnés d’un adulte (père\, mère\, grand-parent\, etc.). Ouvert aux futurs parents. Accueil libre. \nLundi 8h30 – 11h30 & 15h30 – 18h30\nEspace Famille\, Ludothèque\n29 rue Félix Trombe\nGrabels La Valsière \nMardi & Mercredi 9h – 12h\nMaison commune\, 1er étage\, Salle Cléopâtre\n1 place Jean Jaurès\nGrabels\, Centre
URL:https://www.centregutenberg.com/event/lieu-accueil-enfants-parents-170/
LOCATION:Centre Gutenberg\, 2 place Jean Jaurès\, GRABELS\, 34790
CATEGORIES:LAEP
ATTACH;FMTTYPE=image/jpeg:https://www.centregutenberg.com/wp-content/uploads/2024/03/IMG_20191217_102529-scaled-1.jpg
END:VEVENT
BEGIN:VEVENT
DTSTART;TZID=Europe/Paris:20251217T090000
DTEND;TZID=Europe/Paris:20251217T120000
DTSTAMP:20260421T170636
CREATED:20251124T093846Z
LAST-MODIFIED:20251124T093846Z
UID:7585-1765962000-1765972800@www.centregutenberg.com
SUMMARY:Permanence CLCV - Consommation Logement & Cadre de Vie
DESCRIPTION:Samuel SAHY-DYLAS\, chargée d’informations juridiques\, assure des permanences afin de vous accompagner dans la résolution de vos litiges liés à la consommation et dans l’information aux droits des consommateurs (logement\, forfait téléphone…). \nSur rendez-vous\, un mercredi sur deux\, de 9h à 12h
URL:https://www.centregutenberg.com/event/permanence-clcv-consommation-logement-cadre-de-vie-22/
LOCATION:Centre Gutenberg\, 2 place Jean Jaurès\, GRABELS\, 34790
CATEGORIES:PERMANENCE
ATTACH;FMTTYPE=image/jpeg:https://www.centregutenberg.com/wp-content/uploads/2022/08/clcv_news_image_top.jpg
END:VEVENT
BEGIN:VEVENT
DTSTART;TZID=Europe/Paris:20251217T140000
DTEND;TZID=Europe/Paris:20251217T170000
DTSTAMP:20260421T170636
CREATED:20251125T131957Z
LAST-MODIFIED:20251125T131957Z
UID:7636-1765980000-1765990800@www.centregutenberg.com
SUMMARY:Instants Partage Famille "Création d'instruments de musique"
DESCRIPTION:Vous aimez la musique ? Participez à cet atelier pour inventer votre instrument de musique et jouer tous et toutes ensemble! Moment ludique\, créatif et convivial pour enfants comme pour parents. \nRDV à la salle Aguilar à 14h / Sur inscription\, gratuit.
URL:https://www.centregutenberg.com/event/instants-partage-famille-creation-dinstruments-de-musique/
CATEGORIES:INSTANT PARTAGE
END:VEVENT
END:VCALENDAR