BEGIN:VCALENDAR
VERSION:2.0
PRODID:-//Centre socioculturel Gutenberg - ECPv6.15.17.1//NONSGML v1.0//EN
CALSCALE:GREGORIAN
METHOD:PUBLISH
X-WR-CALNAME:Centre socioculturel Gutenberg
X-ORIGINAL-URL:https://www.centregutenberg.com
X-WR-CALDESC:Évènements pour Centre socioculturel Gutenberg
REFRESH-INTERVAL;VALUE=DURATION:PT1H
X-Robots-Tag:noindex
X-PUBLISHED-TTL:PT1H
BEGIN:VTIMEZONE
TZID:Europe/Paris
BEGIN:DAYLIGHT
TZOFFSETFROM:+0100
TZOFFSETTO:+0200
TZNAME:CEST
DTSTART:20240331T010000
END:DAYLIGHT
BEGIN:STANDARD
TZOFFSETFROM:+0200
TZOFFSETTO:+0100
TZNAME:CET
DTSTART:20241027T010000
END:STANDARD
BEGIN:DAYLIGHT
TZOFFSETFROM:+0100
TZOFFSETTO:+0200
TZNAME:CEST
DTSTART:20250330T010000
END:DAYLIGHT
BEGIN:STANDARD
TZOFFSETFROM:+0200
TZOFFSETTO:+0100
TZNAME:CET
DTSTART:20251026T010000
END:STANDARD
BEGIN:DAYLIGHT
TZOFFSETFROM:+0100
TZOFFSETTO:+0200
TZNAME:CEST
DTSTART:20260329T010000
END:DAYLIGHT
BEGIN:STANDARD
TZOFFSETFROM:+0200
TZOFFSETTO:+0100
TZNAME:CET
DTSTART:20261025T010000
END:STANDARD
BEGIN:DAYLIGHT
TZOFFSETFROM:+0100
TZOFFSETTO:+0200
TZNAME:CEST
DTSTART:20270328T010000
END:DAYLIGHT
BEGIN:STANDARD
TZOFFSETFROM:+0200
TZOFFSETTO:+0100
TZNAME:CET
DTSTART:20271031T010000
END:STANDARD
END:VTIMEZONE
BEGIN:VEVENT
DTSTART;TZID=Europe/Paris:20251225T080000
DTEND;TZID=Europe/Paris:20260104T170000
DTSTAMP:20260421T153608
CREATED:20251125T132922Z
LAST-MODIFIED:20251216T113555Z
UID:7644-1766649600-1767546000@www.centregutenberg.com
SUMMARY:Fermeture du Centre Gutenberg et de l'EVS
DESCRIPTION:Le centre Gutenberg et l’EVS seront fermés du 25 décembre au 4 janvier inclus. \nToute l’équipe vous souhaite de très belles fêtes de fin d’année.
URL:https://www.centregutenberg.com/event/fermeture-du-centre-gutenberg-et-de-levs/
LOCATION:Centre Gutenberg\, 2 place Jean Jaurès\, GRABELS\, 34790
END:VEVENT
END:VCALENDAR