BEGIN:VCALENDAR
VERSION:2.0
PRODID:-//Centre socioculturel Gutenberg - ECPv6.15.17.1//NONSGML v1.0//EN
CALSCALE:GREGORIAN
METHOD:PUBLISH
X-WR-CALNAME:Centre socioculturel Gutenberg
X-ORIGINAL-URL:https://www.centregutenberg.com
X-WR-CALDESC:Évènements pour Centre socioculturel Gutenberg
REFRESH-INTERVAL;VALUE=DURATION:PT1H
X-Robots-Tag:noindex
X-PUBLISHED-TTL:PT1H
BEGIN:VTIMEZONE
TZID:Europe/Paris
BEGIN:DAYLIGHT
TZOFFSETFROM:+0100
TZOFFSETTO:+0200
TZNAME:CEST
DTSTART:20250330T010000
END:DAYLIGHT
BEGIN:STANDARD
TZOFFSETFROM:+0200
TZOFFSETTO:+0100
TZNAME:CET
DTSTART:20251026T010000
END:STANDARD
BEGIN:DAYLIGHT
TZOFFSETFROM:+0100
TZOFFSETTO:+0200
TZNAME:CEST
DTSTART:20260329T010000
END:DAYLIGHT
BEGIN:STANDARD
TZOFFSETFROM:+0200
TZOFFSETTO:+0100
TZNAME:CET
DTSTART:20261025T010000
END:STANDARD
BEGIN:DAYLIGHT
TZOFFSETFROM:+0100
TZOFFSETTO:+0200
TZNAME:CEST
DTSTART:20270328T010000
END:DAYLIGHT
BEGIN:STANDARD
TZOFFSETFROM:+0200
TZOFFSETTO:+0100
TZNAME:CET
DTSTART:20271031T010000
END:STANDARD
END:VTIMEZONE
BEGIN:VEVENT
DTSTART;TZID=Europe/Paris:20260423T100000
DTEND;TZID=Europe/Paris:20260423T120000
DTSTAMP:20260423T012138
CREATED:20260331T125150Z
LAST-MODIFIED:20260331T125150Z
UID:8221-1776938400-1776945600@www.centregutenberg.com
SUMMARY:Eveil des sens parents-enfants (0 - 6 ans)
DESCRIPTION:En plein air\, atelier parent-enfant de manipulation de riz pour les enfants de 0 à 6 ans accompagnés : \nMercredi 22 avril 10h- 12h à la Valsière\nPlace Beau de Rochas \nJeudi 23 avril 10h – 12h au centre\nParking de la Source de l‘Avy + pique nique
URL:https://www.centregutenberg.com/event/eveil-des-sens-parents-enfants-0-6-ans-3/
CATEGORIES:Famille
END:VEVENT
BEGIN:VEVENT
DTSTART;TZID=Europe/Paris:20260423T100000
DTEND;TZID=Europe/Paris:20260423T120000
DTSTAMP:20260423T012138
CREATED:20260331T125743Z
LAST-MODIFIED:20260331T125743Z
UID:8233-1776938400-1776945600@www.centregutenberg.com
SUMMARY:Café des habitants
DESCRIPTION:Vous avez des idées d’ateliers\, des projets que vous souhaitez développer sur la commune ? Ou simplement l’envie de venir discuter en toute convivialité ? \n\n\nVenez nous retrouver pour échanger autour d’un chocolat chaud\, d’ un café\nSalle Aguilar\, gratuit\, sans inscription de 10h à 12h.
URL:https://www.centregutenberg.com/event/cafe-des-habitants-27/
LOCATION:Salle Aguilar
CATEGORIES:INSTANT PARTAGE
END:VEVENT
BEGIN:VEVENT
DTSTART;TZID=Europe/Paris:20260423T100000
DTEND;TZID=Europe/Paris:20260423T160000
DTSTAMP:20260423T012138
CREATED:20260331T125454Z
LAST-MODIFIED:20260331T125454Z
UID:8227-1776938400-1776960000@www.centregutenberg.com
SUMMARY:STAGE SCIENTIFIQUE  (enfant + 8 ans)
DESCRIPTION:► Stage scientifique et philosophique \nThème : Voyage sensoriel au coeur des Arts et de la lumière. \nViens t’amuser en participant à des ateliers sur les sens\, le son et la musique\, les illusions d’optiques\, la réalisation de lights paintings\, …Tu participeras aussi à deux ateliers pour donner ton avis et réfléchir ensemble sur le thème des Arts. \nMardi 21\, Mercredi 22 et Jeudi 23 avril de 10h à 16h\nEnfants de 8 à 12 ans – Au centre Gutenberg\nDe 25 à 50€ selon niveau de revenu
URL:https://www.centregutenberg.com/event/stage-scientifique-enfant-8-ans-6/
LOCATION:Centre Gutenberg\, 2 place Jean Jaurès\, GRABELS\, 34790
CATEGORIES:STAGE SCIENTIFIQUE
END:VEVENT
END:VCALENDAR