BEGIN:VCALENDAR
VERSION:2.0
PRODID:-//Centre socioculturel Gutenberg - ECPv6.15.17.1//NONSGML v1.0//EN
CALSCALE:GREGORIAN
METHOD:PUBLISH
X-WR-CALNAME:Centre socioculturel Gutenberg
X-ORIGINAL-URL:https://www.centregutenberg.com
X-WR-CALDESC:Évènements pour Centre socioculturel Gutenberg
REFRESH-INTERVAL;VALUE=DURATION:PT1H
X-Robots-Tag:noindex
X-PUBLISHED-TTL:PT1H
BEGIN:VTIMEZONE
TZID:Europe/Paris
BEGIN:DAYLIGHT
TZOFFSETFROM:+0100
TZOFFSETTO:+0200
TZNAME:CEST
DTSTART:20240331T010000
END:DAYLIGHT
BEGIN:STANDARD
TZOFFSETFROM:+0200
TZOFFSETTO:+0100
TZNAME:CET
DTSTART:20241027T010000
END:STANDARD
BEGIN:DAYLIGHT
TZOFFSETFROM:+0100
TZOFFSETTO:+0200
TZNAME:CEST
DTSTART:20250330T010000
END:DAYLIGHT
BEGIN:STANDARD
TZOFFSETFROM:+0200
TZOFFSETTO:+0100
TZNAME:CET
DTSTART:20251026T010000
END:STANDARD
BEGIN:DAYLIGHT
TZOFFSETFROM:+0100
TZOFFSETTO:+0200
TZNAME:CEST
DTSTART:20260329T010000
END:DAYLIGHT
BEGIN:STANDARD
TZOFFSETFROM:+0200
TZOFFSETTO:+0100
TZNAME:CET
DTSTART:20261025T010000
END:STANDARD
END:VTIMEZONE
BEGIN:VEVENT
DTSTART;TZID=Europe/Paris:20251015T093000
DTEND;TZID=Europe/Paris:20251015T110000
DTSTAMP:20260419T171623
CREATED:20251007T143458Z
LAST-MODIFIED:20251007T143458Z
UID:7378-1760520600-1760526000@www.centregutenberg.com
SUMMARY:Café numérique des p@rents
DESCRIPTION:Venez partager des conseils pratiques et poser toutes vos questions sur l’usage du numérique par votre enfant ou votre ado.\nVous y trouverez des pistes pour l’accompagner vers une utilisation sécurisée et adaptée. \n1 séance/mois.\nPremière rencontre le mercredi 15 octobre de 9h30 à 11h00.\nGratuit\, ouvert à tous les parents.
URL:https://www.centregutenberg.com/event/cafe-numerique-des-prents/
LOCATION:Centre Gutenberg\, 2 place Jean Jaurès\, GRABELS\, 34790
CATEGORIES:Famille
ATTACH;FMTTYPE=image/png:https://www.centregutenberg.com/wp-content/uploads/2025/10/Cafe-numerique.png
END:VEVENT
END:VCALENDAR