BEGIN:VCALENDAR
VERSION:2.0
PRODID:-//Centre socioculturel Gutenberg - ECPv6.15.17.1//NONSGML v1.0//EN
CALSCALE:GREGORIAN
METHOD:PUBLISH
X-WR-CALNAME:Centre socioculturel Gutenberg
X-ORIGINAL-URL:https://www.centregutenberg.com
X-WR-CALDESC:Évènements pour Centre socioculturel Gutenberg
REFRESH-INTERVAL;VALUE=DURATION:PT1H
X-Robots-Tag:noindex
X-PUBLISHED-TTL:PT1H
BEGIN:VTIMEZONE
TZID:Europe/Paris
BEGIN:DAYLIGHT
TZOFFSETFROM:+0100
TZOFFSETTO:+0200
TZNAME:CEST
DTSTART:20240331T010000
END:DAYLIGHT
BEGIN:STANDARD
TZOFFSETFROM:+0200
TZOFFSETTO:+0100
TZNAME:CET
DTSTART:20241027T010000
END:STANDARD
BEGIN:DAYLIGHT
TZOFFSETFROM:+0100
TZOFFSETTO:+0200
TZNAME:CEST
DTSTART:20250330T010000
END:DAYLIGHT
BEGIN:STANDARD
TZOFFSETFROM:+0200
TZOFFSETTO:+0100
TZNAME:CET
DTSTART:20251026T010000
END:STANDARD
BEGIN:DAYLIGHT
TZOFFSETFROM:+0100
TZOFFSETTO:+0200
TZNAME:CEST
DTSTART:20260329T010000
END:DAYLIGHT
BEGIN:STANDARD
TZOFFSETFROM:+0200
TZOFFSETTO:+0100
TZNAME:CET
DTSTART:20261025T010000
END:STANDARD
END:VTIMEZONE
BEGIN:VEVENT
DTSTART;TZID=Europe/Paris:20251021T150000
DTEND;TZID=Europe/Paris:20251021T170000
DTSTAMP:20260419T171325
CREATED:20251007T144617Z
LAST-MODIFIED:20251007T144617Z
UID:7386-1761058800-1761066000@www.centregutenberg.com
SUMMARY:Promenons-nous dans la garrigue (tous âges)
DESCRIPTION:Durant la quinzaine de la parentalité\, une balade en garrigue est prévue le mardi 21 octobre de 15h à 17h avec Sylvie (bénévole) & Caroline.\nRDV au bout de la rue Ranchin (accès garrigue).
URL:https://www.centregutenberg.com/event/promenons-nous-dans-la-garrigue-tous-ages/
LOCATION:Centre Gutenberg\, 2 place Jean Jaurès\, GRABELS\, 34790
CATEGORIES:Famille
ATTACH;FMTTYPE=image/jpeg:https://www.centregutenberg.com/wp-content/uploads/2025/10/parentalite-e1759848191553.jpg
END:VEVENT
BEGIN:VEVENT
DTSTART;TZID=Europe/Paris:20251021T183000
DTEND;TZID=Europe/Paris:20251021T200000
DTSTAMP:20260419T171325
CREATED:20251007T144818Z
LAST-MODIFIED:20251007T144818Z
UID:7388-1761071400-1761076800@www.centregutenberg.com
SUMMARY:Soirée parents d'ados
DESCRIPTION:Mardi 21 octobre à partir de 18h30 : Apéritif partagé.\nInterdit aux ados.\nSylvie & Caroline.\nAccueil libre au centre Gutenberg
URL:https://www.centregutenberg.com/event/soiree-parents-dados/
LOCATION:Centre Gutenberg\, 2 place Jean Jaurès\, GRABELS\, 34790
CATEGORIES:Famille
ATTACH;FMTTYPE=image/jpeg:https://www.centregutenberg.com/wp-content/uploads/2025/10/parentalite-e1759848191553.jpg
END:VEVENT
END:VCALENDAR