BEGIN:VCALENDAR
VERSION:2.0
PRODID:-//Centre socioculturel Gutenberg - ECPv6.15.17.1//NONSGML v1.0//EN
CALSCALE:GREGORIAN
METHOD:PUBLISH
X-WR-CALNAME:Centre socioculturel Gutenberg
X-ORIGINAL-URL:https://www.centregutenberg.com
X-WR-CALDESC:Évènements pour Centre socioculturel Gutenberg
REFRESH-INTERVAL;VALUE=DURATION:PT1H
X-Robots-Tag:noindex
X-PUBLISHED-TTL:PT1H
BEGIN:VTIMEZONE
TZID:Europe/Paris
BEGIN:DAYLIGHT
TZOFFSETFROM:+0100
TZOFFSETTO:+0200
TZNAME:CEST
DTSTART:20240331T010000
END:DAYLIGHT
BEGIN:STANDARD
TZOFFSETFROM:+0200
TZOFFSETTO:+0100
TZNAME:CET
DTSTART:20241027T010000
END:STANDARD
BEGIN:DAYLIGHT
TZOFFSETFROM:+0100
TZOFFSETTO:+0200
TZNAME:CEST
DTSTART:20250330T010000
END:DAYLIGHT
BEGIN:STANDARD
TZOFFSETFROM:+0200
TZOFFSETTO:+0100
TZNAME:CET
DTSTART:20251026T010000
END:STANDARD
BEGIN:DAYLIGHT
TZOFFSETFROM:+0100
TZOFFSETTO:+0200
TZNAME:CEST
DTSTART:20260329T010000
END:DAYLIGHT
BEGIN:STANDARD
TZOFFSETFROM:+0200
TZOFFSETTO:+0100
TZNAME:CET
DTSTART:20261025T010000
END:STANDARD
END:VTIMEZONE
BEGIN:VEVENT
DTSTART;TZID=Europe/Paris:20251024T153000
DTEND;TZID=Europe/Paris:20251024T183000
DTSTAMP:20260419T171336
CREATED:20251007T145935Z
LAST-MODIFIED:20251007T145935Z
UID:7396-1761319800-1761330600@www.centregutenberg.com
SUMMARY:Atelier cuisine parents - enfants
DESCRIPTION:Vendredi 24 octobre de 15h30 à 18h30 : Tartinades gourmandes pour un apéritif sain en famille avec Pauline & Andreina (Cantina)\, Sylvie & Caroline.\nSur inscription. Restaurant « La Cantina »\, Valsière
URL:https://www.centregutenberg.com/event/atelier-cuisine-parents-enfants/
LOCATION:La Valsière\, 403 rue de la valsière\, Grabels\, 34790
CATEGORIES:Famille
ATTACH;FMTTYPE=image/jpeg:https://www.centregutenberg.com/wp-content/uploads/2025/10/parentalite-e1759848191553.jpg
END:VEVENT
END:VCALENDAR