BEGIN:VCALENDAR
VERSION:2.0
PRODID:-//Centre socioculturel Gutenberg - ECPv6.15.17.1//NONSGML v1.0//EN
CALSCALE:GREGORIAN
METHOD:PUBLISH
X-WR-CALNAME:Centre socioculturel Gutenberg
X-ORIGINAL-URL:https://www.centregutenberg.com
X-WR-CALDESC:Évènements pour Centre socioculturel Gutenberg
REFRESH-INTERVAL;VALUE=DURATION:PT1H
X-Robots-Tag:noindex
X-PUBLISHED-TTL:PT1H
BEGIN:VTIMEZONE
TZID:Europe/Paris
BEGIN:DAYLIGHT
TZOFFSETFROM:+0100
TZOFFSETTO:+0200
TZNAME:CEST
DTSTART:20240331T010000
END:DAYLIGHT
BEGIN:STANDARD
TZOFFSETFROM:+0200
TZOFFSETTO:+0100
TZNAME:CET
DTSTART:20241027T010000
END:STANDARD
BEGIN:DAYLIGHT
TZOFFSETFROM:+0100
TZOFFSETTO:+0200
TZNAME:CEST
DTSTART:20250330T010000
END:DAYLIGHT
BEGIN:STANDARD
TZOFFSETFROM:+0200
TZOFFSETTO:+0100
TZNAME:CET
DTSTART:20251026T010000
END:STANDARD
BEGIN:DAYLIGHT
TZOFFSETFROM:+0100
TZOFFSETTO:+0200
TZNAME:CEST
DTSTART:20260329T010000
END:DAYLIGHT
BEGIN:STANDARD
TZOFFSETFROM:+0200
TZOFFSETTO:+0100
TZNAME:CET
DTSTART:20261025T010000
END:STANDARD
END:VTIMEZONE
BEGIN:VEVENT
DTSTART;TZID=Europe/Paris:20251028T100000
DTEND;TZID=Europe/Paris:20251028T123000
DTSTAMP:20260419T154850
CREATED:20251007T150357Z
LAST-MODIFIED:20251007T150357Z
UID:7400-1761645600-1761654600@www.centregutenberg.com
SUMMARY:Balade artistique parents- enfants
DESCRIPTION:Mardi 28 octobre de 10h à 12h30 : \nBalade artistique parents- enfants. Dessin de paysage en pleine nature.\nA partir de 8 ans\nSur inscription\nRDV à l’Espace communal
URL:https://www.centregutenberg.com/event/balade-artistique-parents-enfants/
LOCATION:ESPACE COMMUNAL QUARTIER DE LA VALSIERE\, 403 RUE DE LA VALSIERE\, GRABELS\, 34790
CATEGORIES:Famille
ATTACH;FMTTYPE=image/jpeg:https://www.centregutenberg.com/wp-content/uploads/2025/10/parentalite-e1759848191553.jpg
END:VEVENT
END:VCALENDAR