BEGIN:VCALENDAR
VERSION:2.0
PRODID:-//Centre socioculturel Gutenberg - ECPv6.15.17.1//NONSGML v1.0//EN
CALSCALE:GREGORIAN
METHOD:PUBLISH
X-ORIGINAL-URL:https://www.centregutenberg.com
X-WR-CALDESC:Évènements pour Centre socioculturel Gutenberg
REFRESH-INTERVAL;VALUE=DURATION:PT1H
X-Robots-Tag:noindex
X-PUBLISHED-TTL:PT1H
BEGIN:VTIMEZONE
TZID:Europe/Paris
BEGIN:DAYLIGHT
TZOFFSETFROM:+0100
TZOFFSETTO:+0200
TZNAME:CEST
DTSTART:20240331T010000
END:DAYLIGHT
BEGIN:STANDARD
TZOFFSETFROM:+0200
TZOFFSETTO:+0100
TZNAME:CET
DTSTART:20241027T010000
END:STANDARD
BEGIN:DAYLIGHT
TZOFFSETFROM:+0100
TZOFFSETTO:+0200
TZNAME:CEST
DTSTART:20250330T010000
END:DAYLIGHT
BEGIN:STANDARD
TZOFFSETFROM:+0200
TZOFFSETTO:+0100
TZNAME:CET
DTSTART:20251026T010000
END:STANDARD
BEGIN:DAYLIGHT
TZOFFSETFROM:+0100
TZOFFSETTO:+0200
TZNAME:CEST
DTSTART:20260329T010000
END:DAYLIGHT
BEGIN:STANDARD
TZOFFSETFROM:+0200
TZOFFSETTO:+0100
TZNAME:CET
DTSTART:20261025T010000
END:STANDARD
END:VTIMEZONE
BEGIN:VEVENT
DTSTART;TZID=Europe/Paris:20251117T140000
DTEND;TZID=Europe/Paris:20251117T153000
DTSTAMP:20260419T154949
CREATED:20251024T144553Z
LAST-MODIFIED:20251024T144553Z
UID:7530-1763388000-1763393400@www.centregutenberg.com
SUMMARY:Groupe de parole pour parents
DESCRIPTION:Si vous rencontrez des difficultés dans votre parentalité\, venez partager votre expérience avec d’autres parents dans un espace de parole bienveillant en présence de Vanessa Boukhetaia\, psychothérapeute et référente de l’association Maman Blues. \nLundi 17 novembre 14h 15h30\nEspace famille 49\, rue Felix Trombe\, Grabels Valsière\nInscription par SMS au 06 08 03 69 63
URL:https://www.centregutenberg.com/event/groupe-de-parole-pour-parents/
LOCATION:La Valsière\, 403 rue de la valsière\, Grabels\, 34790
CATEGORIES:Famille
END:VEVENT
END:VCALENDAR